BEGIN:VCALENDAR
VERSION:2.0
PRODID:-//eventon.com NONSGML v1.0//EN
CALSCALE:GREGORIAN
METHOD:PUBLISH
BEGIN:VEVENT
UID:69e9063f170b0
DTSTAMP:20260422T143247
DTSTART:20201127T070100Z
DTEND:20201127T040100Z
TZID:America/Sao_Paulo
LOCATION:
SUMMARY:Santa Catarina Labouré
DESCRIPTION:Paz e Bem! Santa Catarina de Labouré nasceu em Borgonha (França) a 2 de maio de 1806. Era a nona filha de uma família que\,  como tantas outras\,  sofria com as guerras napoleônicas. Aos 9 anos de idade\,  com a morte da mãe\,  Catarina assumiu com empenho e maternidade a[..]\nhttps://conventodapenha.org.br/events/santa-catarina-laboure/
URL:https://conventodapenha.org.br/events/santa-catarina-laboure/
END:VEVENT
END:VCALENDAR