BEGIN:VCALENDAR
VERSION:2.0
PRODID:-//eventon.com NONSGML v1.0//EN
CALSCALE:GREGORIAN
METHOD:PUBLISH
BEGIN:VEVENT
UID:69e57e6cc8d6f
DTSTAMP:20260419T221628
DTSTART:21051120T070100Z
DTEND:21051120T040100Z
TZID:America/Sao_Paulo
LOCATION:
SUMMARY:Santo Edmundo
DESCRIPTION:Paz e Bem! Edmundo é o santo mais vivo na memória do povo da Inglaterra do que nos documentos históricos. Os registros trazem dados sobre o seu reinado e sua morte\,  mas sobre sua origem poucas são as informações. Sabemos que Edmundo era cristão\,  filho do rei da Saxônia que[..]\nhttps://conventodapenha.org.br/events/santo-edmundo/var/ri-85.l-L1
URL:https://conventodapenha.org.br/events/santo-edmundo/var/ri-85.l-L1
END:VEVENT
END:VCALENDAR