BEGIN:VCALENDAR
VERSION:2.0
PRODID:-//eventon.com NONSGML v1.0//EN
CALSCALE:GREGORIAN
METHOD:PUBLISH
BEGIN:VEVENT
UID:69eba762871d7
DTSTAMP:20260424T142450
DTSTART:20201105T070100Z
DTEND:20201105T040100Z
TZID:America/Sao_Paulo
LOCATION:
SUMMARY:São Zacarias e Santa Isabel
DESCRIPTION:Paz e Bem! “Naqueles dias\,  Maria partiu para a região montanhosa\,  dirigindo-se\,  às pressas\,  a uma cidade da Judéia. Entrou na casa de Zacarias e saudou Isabel. Quando Isabel ouviu a saudação de Maria\,  a criança se agitou no seu ventre\,  e Isabel ficou cheia do Espírito Santo.  Com um[..]\nhttps://conventodapenha.org.br/events/sao-zacarias-e-santa-isabel/
URL:https://conventodapenha.org.br/events/sao-zacarias-e-santa-isabel/
END:VEVENT
END:VCALENDAR