BEGIN:VCALENDAR
VERSION:2.0
PRODID:-//eventon.com NONSGML v1.0//EN
CALSCALE:GREGORIAN
METHOD:PUBLISH
BEGIN:VEVENT
UID:69eba3d75d3cb
DTSTAMP:20260424T140943
DTSTART:20201103T070100Z
DTEND:20301103T040100Z
TZID:America/Sao_Paulo
LOCATION:
SUMMARY:São Martinho de Lima
DESCRIPTION:Paz e Bem! Filho ilegítimo de João de Porres\,  nobre espanhol pertencente à Ordem de Alcântara e descendente de cruzados\,  e de Ana Velásquez\,  negra alforriada\,  Martinho nasceu no princípio de dezembro de 1579\,  em Lima\,  no Peru. Na sua certidão de batismo constou “pai ignorado”. O mesmo aconteceu com[..]\nhttps://conventodapenha.org.br/events/sao-martinho-de-lima/
URL:https://conventodapenha.org.br/events/sao-martinho-de-lima/
END:VEVENT
END:VCALENDAR