BEGIN:VCALENDAR
VERSION:2.0
PRODID:-//eventon.com NONSGML v1.0//EN
CALSCALE:GREGORIAN
METHOD:PUBLISH
BEGIN:VEVENT
UID:69e5560f24cde
DTSTAMP:20260419T192415
DTSTART:20310827T070100Z
DTEND:20310827T040100Z
TZID:America/Sao_Paulo
LOCATION:
SUMMARY:Memória de Santa Mônica\,  Padroeira das Mães Cristãs
DESCRIPTION:Paz e Bem! Hoje\,  27 de agosto\,  a Igreja celebra a Solenidade de Santa Mônica\,  mãe de Santo Agostinho e Padroeira das Mães Cristãs. Mônica nasceu em Tagaste\,  norte da África\,  no ano 331\,  no seio de uma família cristã. Desde muito cedo dedicou sua vida a ajudar os pobres\, [..]\nhttps://conventodapenha.org.br/events/memoria-de-santa-monica-padroeira-das-maes-cristas/var/ri-10.l-L1
URL:https://conventodapenha.org.br/events/memoria-de-santa-monica-padroeira-das-maes-cristas/var/ri-10.l-L1
END:VEVENT
END:VCALENDAR