BEGIN:VCALENDAR
VERSION:2.0
PRODID:-//eventon.com NONSGML v1.0//EN
CALSCALE:GREGORIAN
METHOD:PUBLISH
BEGIN:VEVENT
UID:69ea532251124
DTSTAMP:20260423T141306
DTSTART:21180504T070100Z
DTEND:21180504T040100Z
TZID:America/Sao_Paulo
LOCATION:
SUMMARY:São Floriano\,  Padroeiro dos Bombeiros
DESCRIPTION:Paz e Bem! São Floriano\,  que hoje celebramos\,  é padroeiro dos bombeiros. Nas imagens aparece sempre fardado como os antigos generais romanos. Segura em suas mãos calejadas uma espécie de cântaro que deixa cair água sobre as habitações incendiadas. São Floriano pode ser contado entre verdadeiros colaboradores na propagação da[..]\nhttps://conventodapenha.org.br/events/sao-floriano-padroeiro-dos-bombeiros/var/ri-97.l-L1
URL:https://conventodapenha.org.br/events/sao-floriano-padroeiro-dos-bombeiros/var/ri-97.l-L1
END:VEVENT
END:VCALENDAR