BEGIN:VCALENDAR
VERSION:2.0
PRODID:-//eventon.com NONSGML v1.0//EN
CALSCALE:GREGORIAN
METHOD:PUBLISH
BEGIN:VEVENT
UID:69ebc444a0c35
DTSTAMP:20260424T162804
DTSTART:20380208T070100Z
DTEND:20380208T040100Z
TZID:America/Sao_Paulo
LOCATION:
SUMMARY:Santa Josefina Bakhita
DESCRIPTION:Bakhita nasceu no Sudão\,  África\,  em 1869. Seu nome significa “afortunada”. Esta flor africana conheceu as humilhações\,  os sofrimentos físicos e morais da escravidão\,  sendo vendida e comprada várias vezes. Na capital do Sudão\,  Bakhita foi finalmente comprada por um cônsul italiano\,  que depois a levou consigo para a Itália.[..]\nhttps://conventodapenha.org.br/events/santa-josefina-bakhita/var/ri-17.l-L1
URL:https://conventodapenha.org.br/events/santa-josefina-bakhita/var/ri-17.l-L1
END:VEVENT
END:VCALENDAR