BEGIN:VCALENDAR
VERSION:2.0
PRODID:-//eventon.com NONSGML v1.0//EN
CALSCALE:GREGORIAN
METHOD:PUBLISH
BEGIN:VEVENT
UID:69e4d24ac3769
DTSTAMP:20260419T100202
DTSTART:20210201T070100Z
DTEND:20210201T040100Z
TZID:America/Sao_Paulo
LOCATION:
SUMMARY:Santa Veridiana
DESCRIPTION:Veridiana nasceu em 1182\,  na Itália\,  e viveu quase toda a vida enclausurada numa minúscula cela. Pertencente a uma família nobre e rica\,  os Attavanti\,  Veridiana levou uma vida santa. Sua pessoa era tão querida que durante a vida recebeu a visita de Francisco de Assis. Veridiana sempre utilizou a[..]\nhttps://conventodapenha.org.br/events/santa-veridiana/
URL:https://conventodapenha.org.br/events/santa-veridiana/
END:VEVENT
END:VCALENDAR